BEGIN:VCALENDAR
VERSION:2.0
PRODID:-//IWMA - ECPv6.6.4.2//NONSGML v1.0//EN
CALSCALE:GREGORIAN
METHOD:PUBLISH
X-ORIGINAL-URL:https://iwma.ie
X-WR-CALDESC:Events for IWMA
REFRESH-INTERVAL;VALUE=DURATION:PT1H
X-Robots-Tag:noindex
X-PUBLISHED-TTL:PT1H
BEGIN:VTIMEZONE
TZID:Europe/Dublin
BEGIN:STANDARD
TZOFFSETFROM:+0000
TZOFFSETTO:+0100
TZNAME:IST
DTSTART:20150329T010000
END:STANDARD
BEGIN:DAYLIGHT
TZOFFSETFROM:+0100
TZOFFSETTO:+0000
TZNAME:GMT
DTSTART:20151025T010000
END:DAYLIGHT
BEGIN:STANDARD
TZOFFSETFROM:+0000
TZOFFSETTO:+0100
TZNAME:IST
DTSTART:20160327T010000
END:STANDARD
BEGIN:DAYLIGHT
TZOFFSETFROM:+0100
TZOFFSETTO:+0000
TZNAME:GMT
DTSTART:20161030T010000
END:DAYLIGHT
BEGIN:STANDARD
TZOFFSETFROM:+0000
TZOFFSETTO:+0100
TZNAME:IST
DTSTART:20170326T010000
END:STANDARD
BEGIN:DAYLIGHT
TZOFFSETFROM:+0100
TZOFFSETTO:+0000
TZNAME:GMT
DTSTART:20171029T010000
END:DAYLIGHT
BEGIN:STANDARD
TZOFFSETFROM:+0000
TZOFFSETTO:+0100
TZNAME:IST
DTSTART:20180325T010000
END:STANDARD
BEGIN:DAYLIGHT
TZOFFSETFROM:+0100
TZOFFSETTO:+0000
TZNAME:GMT
DTSTART:20181028T010000
END:DAYLIGHT
BEGIN:STANDARD
TZOFFSETFROM:+0000
TZOFFSETTO:+0100
TZNAME:IST
DTSTART:20190331T010000
END:STANDARD
BEGIN:DAYLIGHT
TZOFFSETFROM:+0100
TZOFFSETTO:+0000
TZNAME:GMT
DTSTART:20191027T010000
END:DAYLIGHT
BEGIN:STANDARD
TZOFFSETFROM:+0000
TZOFFSETTO:+0100
TZNAME:IST
DTSTART:20200329T010000
END:STANDARD
BEGIN:DAYLIGHT
TZOFFSETFROM:+0100
TZOFFSETTO:+0000
TZNAME:GMT
DTSTART:20201025T010000
END:DAYLIGHT
BEGIN:STANDARD
TZOFFSETFROM:+0000
TZOFFSETTO:+0100
TZNAME:IST
DTSTART:20210328T010000
END:STANDARD
BEGIN:DAYLIGHT
TZOFFSETFROM:+0100
TZOFFSETTO:+0000
TZNAME:GMT
DTSTART:20211031T010000
END:DAYLIGHT
BEGIN:STANDARD
TZOFFSETFROM:+0000
TZOFFSETTO:+0100
TZNAME:IST
DTSTART:20220327T010000
END:STANDARD
BEGIN:DAYLIGHT
TZOFFSETFROM:+0100
TZOFFSETTO:+0000
TZNAME:GMT
DTSTART:20221030T010000
END:DAYLIGHT
BEGIN:STANDARD
TZOFFSETFROM:+0000
TZOFFSETTO:+0100
TZNAME:IST
DTSTART:20230326T010000
END:STANDARD
BEGIN:DAYLIGHT
TZOFFSETFROM:+0100
TZOFFSETTO:+0000
TZNAME:GMT
DTSTART:20231029T010000
END:DAYLIGHT
END:VTIMEZONE
BEGIN:VEVENT
DTSTART;TZID=Europe/Dublin:20230907T193000
DTEND;TZID=Europe/Dublin:20230907T223000
DTSTAMP:20260421T113357
CREATED:20230509T101434Z
LAST-MODIFIED:20230509T101434Z
UID:2026-1694115000-1694125800@iwma.ie
SUMMARY:IWMA Dinner sponsored by SLR Consulting
DESCRIPTION:
URL:https://iwma.ie/event/iwma-dinner-sponsored-by-slr-consulting/
LOCATION:McSwiggans Restaurant\, 3 Eyre St\, Woodquay Market\, \, Galway\, H91 X0KX\, Ireland
CATEGORIES:Social
END:VEVENT
BEGIN:VEVENT
DTSTART;TZID=Europe/Dublin:20191024T190000
DTEND;TZID=Europe/Dublin:20191024T230000
DTSTAMP:20260421T113357
CREATED:20190910T154046Z
LAST-MODIFIED:20190910T154046Z
UID:1502-1571943600-1571958000@iwma.ie
SUMMARY:Pakman Awards
DESCRIPTION:
URL:https://iwma.ie/event/pakman-awards/
LOCATION:InterContinental Hotel\, 4 Simmonscourt Road\, Ballsbridge\, Ireland
CATEGORIES:Social
END:VEVENT
BEGIN:VEVENT
DTSTART;TZID=Europe/Dublin:20180906T190000
DTEND;TZID=Europe/Dublin:20180906T230000
DTSTAMP:20260421T113357
CREATED:20180305T113633Z
LAST-MODIFIED:20180305T113633Z
UID:1327-1536260400-1536274800@iwma.ie
SUMMARY:IWMA Social Dinner
DESCRIPTION:
URL:https://iwma.ie/event/iwma-social-dinner-2/
LOCATION:Kirwans Lane Restaurant\, Kirwans Lane\, Galway\, Ireland
CATEGORIES:Social
END:VEVENT
BEGIN:VEVENT
DTSTART;TZID=Europe/Dublin:20161027T183000
DTEND;TZID=Europe/Dublin:20161027T233000
DTSTAMP:20260421T113357
CREATED:20161005T140259Z
LAST-MODIFIED:20161005T140259Z
UID:1158-1477593000-1477611000@iwma.ie
SUMMARY:REPAK PAKMAN Awards
DESCRIPTION:
URL:https://iwma.ie/event/repak-pakman-awards/
LOCATION:InterContinental Hotel\, 4 Simmonscourt Road\, Ballsbridge\, Ireland
CATEGORIES:Social,Waste Event
END:VEVENT
BEGIN:VEVENT
DTSTART;TZID=Europe/Dublin:20160908T193000
DTEND;TZID=Europe/Dublin:20160908T230000
DTSTAMP:20260421T113357
CREATED:20160614T130925Z
LAST-MODIFIED:20160617T084444Z
UID:1101-1473363000-1473375600@iwma.ie
SUMMARY:IWMA Social Event
DESCRIPTION:
URL:https://iwma.ie/event/iwma-social-event/
LOCATION:Kirwans Lane Restaurant\, Kirwans Lane\, Galway\, Ireland
CATEGORIES:Social
END:VEVENT
BEGIN:VEVENT
DTSTART;VALUE=DATE:20151022
DTEND;VALUE=DATE:20151023
DTSTAMP:20260421T113357
CREATED:20160427T204602Z
LAST-MODIFIED:20160427T212905Z
UID:981-1445472000-1445558399@iwma.ie
SUMMARY:Repak Awards for Recycling
DESCRIPTION:Black Tie Awards Ceremony.
URL:https://iwma.ie/event/repak-awards-for-recycling/
LOCATION:Shelbourne Hotel\, 27 St. Stephen's Green\, Dublin 2\, Ireland
CATEGORIES:Social,Waste Event
END:VEVENT
BEGIN:VEVENT
DTSTART;TZID=Europe/Dublin:20150915T130000
DTEND;TZID=Europe/Dublin:20150915T163000
DTSTAMP:20260421T113357
CREATED:20160427T210837Z
LAST-MODIFIED:20160427T212810Z
UID:992-1442322000-1442334600@iwma.ie
SUMMARY:WEEE Ireland 10 Yr Anniversay Celebration
DESCRIPTION:Minister for Environment Alan Kelly T.D. has been invited to attend and present alongside:\n– MC for the day – Ivan Yates of Newstalk Radio\n– Briefings from WEEE Ireland on Scheme successes and future directions on behalf of Members\n– WEEE Forum Presentation on European WEEE developments; WEEELABEX\, CWIT and WEEE2\n– Awards recognising the achievements of WEEE & Battery stakeholders including top WEEEpledge Schools for 2014\n– WEEE Ireland recycling contractors and social partnerships poster and exhibition area\n– light lunch\, refreshments with networking areas and some birthday fun too!
URL:https://iwma.ie/event/weee-ireland-10-yr-anniversay-celebration/
LOCATION:Google Docks\, Barrow Street\, Dublin 4\, Ireland
CATEGORIES:Social,Waste Event
END:VEVENT
BEGIN:VEVENT
DTSTART;TZID=Europe/Dublin:20150903T110000
DTEND;TZID=Europe/Dublin:20150903T153000
DTSTAMP:20260421T113357
CREATED:20160427T211659Z
LAST-MODIFIED:20160427T212732Z
UID:998-1441278000-1441294200@iwma.ie
SUMMARY:IWMA Golf Outing
DESCRIPTION:
URL:https://iwma.ie/event/iwma-golf-outing/
LOCATION:Galway Bay Hotel\, The Promenade\, Salthill\, Galway\, Ireland
CATEGORIES:Social,Waste Event
END:VEVENT
BEGIN:VEVENT
DTSTART;TZID=Europe/Dublin:20150902T190000
DTEND;TZID=Europe/Dublin:20150902T220000
DTSTAMP:20260421T113357
CREATED:20160427T212053Z
LAST-MODIFIED:20160427T212725Z
UID:1000-1441220400-1441231200@iwma.ie
SUMMARY:IWMA Social Dinner
DESCRIPTION:
URL:https://iwma.ie/event/iwma-social-dinner/
LOCATION:Radisson Blu Hotel\, Radisson\, Lough Atalia Road\, Galway\, Ireland
CATEGORIES:Social,Waste Event
END:VEVENT
END:VCALENDAR