BEGIN:VCALENDAR
VERSION:2.0
PRODID:-//IWMA - ECPv6.6.4.2//NONSGML v1.0//EN
CALSCALE:GREGORIAN
METHOD:PUBLISH
X-ORIGINAL-URL:https://iwma.ie
X-WR-CALDESC:Events for IWMA
REFRESH-INTERVAL;VALUE=DURATION:PT1H
X-Robots-Tag:noindex
X-PUBLISHED-TTL:PT1H
BEGIN:VTIMEZONE
TZID:Europe/Dublin
BEGIN:STANDARD
TZOFFSETFROM:+0000
TZOFFSETTO:+0100
TZNAME:IST
DTSTART:20150329T010000
END:STANDARD
BEGIN:DAYLIGHT
TZOFFSETFROM:+0100
TZOFFSETTO:+0000
TZNAME:GMT
DTSTART:20151025T010000
END:DAYLIGHT
BEGIN:STANDARD
TZOFFSETFROM:+0000
TZOFFSETTO:+0100
TZNAME:IST
DTSTART:20160327T010000
END:STANDARD
BEGIN:DAYLIGHT
TZOFFSETFROM:+0100
TZOFFSETTO:+0000
TZNAME:GMT
DTSTART:20161030T010000
END:DAYLIGHT
END:VTIMEZONE
BEGIN:VEVENT
DTSTART;TZID=Europe/Dublin:20160426T140000
DTEND;TZID=Europe/Dublin:20160426T160000
DTSTAMP:20260423T125929
CREATED:20160427T110319Z
LAST-MODIFIED:20160427T201829Z
UID:956-1461679200-1461686400@iwma.ie
SUMMARY:Waste Forum Meeting
DESCRIPTION:
URL:https://iwma.ie/event/waste-forum-meeting/
LOCATION:The Custom House\, The Custom House \, Dublin 1\, Ireland
CATEGORIES:Waste Event
END:VEVENT
BEGIN:VEVENT
DTSTART;VALUE=DATE:20160425
DTEND;VALUE=DATE:20160426
DTSTAMP:20260423T125929
CREATED:20160427T110151Z
LAST-MODIFIED:20160427T135928Z
UID:955-1461542400-1461628799@iwma.ie
SUMMARY:CA Site IWMA Subgroup
DESCRIPTION:Dublin Regional MRF – Ballymount
URL:https://iwma.ie/event/ca-site-iwma-subgroup/
CATEGORIES:Waste Event
END:VEVENT
BEGIN:VEVENT
DTSTART;TZID=Europe/Dublin:20160421T140000
DTEND;TZID=Europe/Dublin:20160421T160000
DTSTAMP:20260423T125929
CREATED:20160427T105706Z
LAST-MODIFIED:20160427T135943Z
UID:953-1461247200-1461254400@iwma.ie
SUMMARY:IWMA meeting with Regional Coordinators re PBW Awareness Campaign
DESCRIPTION:
URL:https://iwma.ie/event/iwma-meeting-with-regional-coordinators-re-pbw-awareness-campaign/
LOCATION:Red Cow Moran Hotel\, Red Cow\, Naas Rd\,\, Dublin 22\, Ireland
CATEGORIES:Waste Event
END:VEVENT
BEGIN:VEVENT
DTSTART;TZID=Europe/Dublin:20160414T140000
DTEND;TZID=Europe/Dublin:20160414T153000
DTSTAMP:20260423T125929
CREATED:20160427T105318Z
LAST-MODIFIED:20160427T140001Z
UID:952-1460642400-1460647800@iwma.ie
SUMMARY:DECLG Residual Waste Review Meeting
DESCRIPTION:
URL:https://iwma.ie/event/declg-residual-waste-review-meeting/
LOCATION:Glasson House Hotel\, Glasson\, Athlone\, Ireland
CATEGORIES:Waste Event
END:VEVENT
BEGIN:VEVENT
DTSTART;TZID=Europe/Dublin:20160414T110000
DTEND;TZID=Europe/Dublin:20160414T130000
DTSTAMP:20260423T125929
CREATED:20160427T105227Z
LAST-MODIFIED:20160427T161806Z
UID:951-1460631600-1460638800@iwma.ie
SUMMARY:IWMA General Meeting AGM
DESCRIPTION:
URL:https://iwma.ie/event/iwma-general-meeting-agm/
LOCATION:Glasson House Hotel\, Glasson\, Athlone\, Ireland
CATEGORIES:Waste Event
END:VEVENT
BEGIN:VEVENT
DTSTART;TZID=Europe/Dublin:20160414T093000
DTEND;TZID=Europe/Dublin:20160414T110000
DTSTAMP:20260423T125929
CREATED:20160427T105100Z
LAST-MODIFIED:20160427T140029Z
UID:950-1460626200-1460631600@iwma.ie
SUMMARY:Dry Recyclables Subgroup Meeting
DESCRIPTION:
URL:https://iwma.ie/event/dry-recyclables-subgroup-meeting-2/
LOCATION:Glasson House Hotel\, Glasson\, Athlone\, Ireland
CATEGORIES:Waste Event
END:VEVENT
BEGIN:VEVENT
DTSTART;TZID=Europe/Dublin:20160414T093000
DTEND;TZID=Europe/Dublin:20160414T110000
DTSTAMP:20260423T125929
CREATED:20160427T104347Z
LAST-MODIFIED:20160427T161826Z
UID:948-1460626200-1460631600@iwma.ie
SUMMARY:IWMA Board Meeting AGM
DESCRIPTION:
URL:https://iwma.ie/event/iwma-board-meeting-agm/
LOCATION:Glasson House Hotel\, Glasson\, Athlone\, Ireland
CATEGORIES:Board Meeting,Waste Event
END:VEVENT
BEGIN:VEVENT
DTSTART;TZID=Europe/Dublin:20160330T100000
DTEND;TZID=Europe/Dublin:20160330T110000
DTSTAMP:20260423T125929
CREATED:20160427T103803Z
LAST-MODIFIED:20160427T161918Z
UID:947-1459332000-1459335600@iwma.ie
SUMMARY:IWMA Meeting with CAS re RSA Consultation
DESCRIPTION:
URL:https://iwma.ie/event/iwma-meeting-with-cas-re-rsa-consultation/
LOCATION:Citywest Hotel\, Citywest\, Saggart\, Dublin\, Ireland
CATEGORIES:Waste Event
END:VEVENT
BEGIN:VEVENT
DTSTART;TZID=Europe/Dublin:20160330T090000
DTEND;TZID=Europe/Dublin:20160330T100000
DTSTAMP:20260423T125929
CREATED:20160427T103146Z
LAST-MODIFIED:20160427T161942Z
UID:944-1459328400-1459332000@iwma.ie
SUMMARY:IWMA Road Safety Subgroup Meeting
DESCRIPTION:
URL:https://iwma.ie/event/iwma-road-safety-subgroup-meeting/
LOCATION:Citywest Hotel\, Citywest\, Saggart\, Dublin\, Ireland
CATEGORIES:Waste Event
END:VEVENT
BEGIN:VEVENT
DTSTART;TZID=Europe/Dublin:20160216T140000
DTEND;TZID=Europe/Dublin:20160216T170000
DTSTAMP:20260423T125929
CREATED:20160427T101619Z
LAST-MODIFIED:20160427T140224Z
UID:939-1455631200-1455642000@iwma.ie
SUMMARY:Health and Safety Forum meeting
DESCRIPTION:
URL:https://iwma.ie/event/health-and-safety-forum-meeting/
LOCATION:TBC\, Ireland
CATEGORIES:Waste Event
END:VEVENT
BEGIN:VEVENT
DTSTART;TZID=Europe/Dublin:20160204T143000
DTEND;TZID=Europe/Dublin:20160204T163000
DTSTAMP:20260423T125929
CREATED:20160427T101411Z
LAST-MODIFIED:20160428T100350Z
UID:938-1454596200-1454603400@iwma.ie
SUMMARY:I Wish Meeting
DESCRIPTION:Health and Safety Forum meeting.
URL:https://iwma.ie/event/iwish-meeting/
LOCATION:Maldron Hotel\, Maldron\, Midway\, Abbeyleix Road\, Portlaoise\, Ireland
CATEGORIES:Waste Event
END:VEVENT
BEGIN:VEVENT
DTSTART;TZID=Europe/Dublin:20160204T110000
DTEND;TZID=Europe/Dublin:20160204T130000
DTSTAMP:20260423T125929
CREATED:20160427T101131Z
LAST-MODIFIED:20160427T104843Z
UID:937-1454583600-1454590800@iwma.ie
SUMMARY:IWMA General Meeting
DESCRIPTION:
URL:https://iwma.ie/event/iwma-general-meeting/
LOCATION:Maldron Hotel\, Maldron\, Midway\, Abbeyleix Road\, Portlaoise\, Ireland
CATEGORIES:Waste Event
END:VEVENT
BEGIN:VEVENT
DTSTART;TZID=Europe/Dublin:20160204T093000
DTEND;TZID=Europe/Dublin:20160204T110000
DTSTAMP:20260423T125929
CREATED:20160427T101039Z
LAST-MODIFIED:20160427T104852Z
UID:936-1454578200-1454583600@iwma.ie
SUMMARY:IWMA Board Meeting
DESCRIPTION:
URL:https://iwma.ie/event/iwma-board-meeting/
LOCATION:Maldron Hotel\, Maldron\, Midway\, Abbeyleix Road\, Portlaoise\, Ireland
CATEGORIES:Waste Event
END:VEVENT
BEGIN:VEVENT
DTSTART;VALUE=DATE:20160129
DTEND;VALUE=DATE:20160130
DTSTAMP:20260423T125929
CREATED:20160427T100831Z
LAST-MODIFIED:20160427T104859Z
UID:934-1454025600-1454111999@iwma.ie
SUMMARY:EU Commission Conference on Waste Collection in 28 EU Capital Cities
DESCRIPTION:
URL:https://iwma.ie/event/eu-commission-conference-on-waste-collection-in-28-eu-capital-cities/
CATEGORIES:Waste Event
END:VEVENT
BEGIN:VEVENT
DTSTART;TZID=Europe/Dublin:20160127T090000
DTEND;TZID=Europe/Dublin:20160127T110000
DTSTAMP:20260423T125929
CREATED:20160427T095455Z
LAST-MODIFIED:20160427T100626Z
UID:932-1453885200-1453892400@iwma.ie
SUMMARY:Inaugural Meeting of Enforcement Industry Contact Group
DESCRIPTION:IWMA to Chair this Group. John Dunne is Chairman
URL:https://iwma.ie/event/inaugural-meeting-of-enforcement-industry-contact-group/
LOCATION:The Custom House\, The Custom House \, Dublin 1\, Ireland
CATEGORIES:Waste Event
END:VEVENT
BEGIN:VEVENT
DTSTART;TZID=Europe/Dublin:20160113T110000
DTEND;TZID=Europe/Dublin:20160113T130000
DTSTAMP:20260423T125929
CREATED:20160426T160200Z
LAST-MODIFIED:20160427T094708Z
UID:921-1452682800-1452690000@iwma.ie
SUMMARY:Dry Recyclables Subgroup Meeting
DESCRIPTION:
URL:https://iwma.ie/event/dry-recyclables-subgroup-meeting/
LOCATION:Maldron Hotel\, Maldron\, Midway\, Abbeyleix Road\, Portlaoise\, Ireland
CATEGORIES:Waste Event
END:VEVENT
BEGIN:VEVENT
DTSTART;TZID=Europe/Dublin:20151126T080000
DTEND;TZID=Europe/Dublin:20151126T170000
DTSTAMP:20260423T125929
CREATED:20160427T163352Z
LAST-MODIFIED:20160427T163529Z
UID:971-1448524800-1448557200@iwma.ie
SUMMARY:Irish Waste Conference
DESCRIPTION:IWMA & CIWM joint waste conference – Weighing Up The Future
URL:https://iwma.ie/event/irish-waste-conference/
LOCATION:Carton House\, Carton\, Maynooth\, Ireland
CATEGORIES:Waste Event
END:VEVENT
BEGIN:VEVENT
DTSTART;TZID=Europe/Dublin:20151125T140000
DTEND;TZID=Europe/Dublin:20151125T160000
DTSTAMP:20260423T125929
CREATED:20160427T164142Z
LAST-MODIFIED:20160427T164245Z
UID:975-1448460000-1448467200@iwma.ie
SUMMARY:IWMA General Meeting
DESCRIPTION:
URL:https://iwma.ie/event/iwma-general-meeting-3/
LOCATION:Carton House\, Carton\, Maynooth\, Ireland
CATEGORIES:Waste Event
END:VEVENT
BEGIN:VEVENT
DTSTART;TZID=Europe/Dublin:20151125T110000
DTEND;TZID=Europe/Dublin:20151125T123000
DTSTAMP:20260423T125929
CREATED:20160427T163940Z
LAST-MODIFIED:20160427T164322Z
UID:974-1448449200-1448454600@iwma.ie
SUMMARY:IWMA Board Meeting
DESCRIPTION:
URL:https://iwma.ie/event/iwma-board-meeting-3/
LOCATION:Carton House\, Carton\, Maynooth\, Ireland
CATEGORIES:Board Meeting,Waste Event
END:VEVENT
BEGIN:VEVENT
DTSTART;TZID=Europe/Dublin:20151120T110000
DTEND;TZID=Europe/Dublin:20151120T123000
DTSTAMP:20260423T125929
CREATED:20160427T164640Z
LAST-MODIFIED:20160427T212925Z
UID:976-1448017200-1448022600@iwma.ie
SUMMARY:ABP Forum
DESCRIPTION:
URL:https://iwma.ie/event/abp-forum/
LOCATION:DAFM Offices\, business park\, Grattan Street\,\, Portlaoise\, Ireland
CATEGORIES:Waste Event
END:VEVENT
BEGIN:VEVENT
DTSTART;VALUE=DATE:20151104
DTEND;VALUE=DATE:20151105
DTSTAMP:20260423T125929
CREATED:20160427T164904Z
LAST-MODIFIED:20160427T212914Z
UID:978-1446595200-1446681599@iwma.ie
SUMMARY:Cré & Irbea R&D Forum
DESCRIPTION:Cré and IrBEA identified the need for a stand-alone event on R&D for our sector. The aim of which would be to have the industry attend and to strengthen links with academia. Cré and IrBEA have organised this ‘R&D’ event for the compost\, anaerobic digestion and biomass industry.
URL:https://iwma.ie/event/cre-irbea-rd-forum/
LOCATION:Crowne Plaza Hotel\, Northwood Park Santry Demesne\, Northwood Ave\, Dublin 9\, Ireland
CATEGORIES:Waste Event
END:VEVENT
BEGIN:VEVENT
DTSTART;VALUE=DATE:20151022
DTEND;VALUE=DATE:20151023
DTSTAMP:20260423T125929
CREATED:20160427T204602Z
LAST-MODIFIED:20160427T212905Z
UID:981-1445472000-1445558399@iwma.ie
SUMMARY:Repak Awards for Recycling
DESCRIPTION:Black Tie Awards Ceremony.
URL:https://iwma.ie/event/repak-awards-for-recycling/
LOCATION:Shelbourne Hotel\, 27 St. Stephen's Green\, Dublin 2\, Ireland
CATEGORIES:Social,Waste Event
END:VEVENT
BEGIN:VEVENT
DTSTART;TZID=Europe/Dublin:20151020T110000
DTEND;TZID=Europe/Dublin:20151020T123000
DTSTAMP:20260423T125929
CREATED:20160427T204940Z
LAST-MODIFIED:20160427T212856Z
UID:984-1445338800-1445344200@iwma.ie
SUMMARY:Waste Forum
DESCRIPTION:
URL:https://iwma.ie/event/waste-forum/
LOCATION:DCCAE Wexford\, Ireland
CATEGORIES:Waste Event
END:VEVENT
BEGIN:VEVENT
DTSTART;TZID=Europe/Dublin:20150930T110000
DTEND;TZID=Europe/Dublin:20150930T123000
DTSTAMP:20260423T125929
CREATED:20160427T205203Z
LAST-MODIFIED:20160427T212850Z
UID:986-1443610800-1443616200@iwma.ie
SUMMARY:ABP Forum
DESCRIPTION:
URL:https://iwma.ie/event/abp-forum-2/
LOCATION:DAFM Offices\, business park\, Grattan Street\,\, Portlaoise\, Ireland
CATEGORIES:Waste Event
END:VEVENT
BEGIN:VEVENT
DTSTART;TZID=Europe/Dublin:20150921T103000
DTEND;TZID=Europe/Dublin:20150921T123000
DTSTAMP:20260423T125929
CREATED:20160427T205750Z
LAST-MODIFIED:20160427T212842Z
UID:987-1442831400-1442838600@iwma.ie
SUMMARY:Dry Recyclables Subgroup Meeting
DESCRIPTION:
URL:https://iwma.ie/event/dry-recyclables-subgroup-meeting-3/
LOCATION:Maldron Hotel\, Maldron\, Midway\, Abbeyleix Road\, Portlaoise\, Ireland
CATEGORIES:Waste Event
END:VEVENT
BEGIN:VEVENT
DTSTART;TZID=Europe/Dublin:20150918T170000
DTEND;TZID=Europe/Dublin:20150918T173000
DTSTAMP:20260423T125929
CREATED:20160427T205918Z
LAST-MODIFIED:20160427T212834Z
UID:988-1442595600-1442597400@iwma.ie
SUMMARY:Deadline for submission to DCENR Consultation on Renewable Electricity and Heat Support Schemes
DESCRIPTION:
URL:https://iwma.ie/event/deadline-for-submission-to-dcenr-consultation-on-renewable-electricity-and-heat-support-schemes/
CATEGORIES:Waste Event
END:VEVENT
BEGIN:VEVENT
DTSTART;TZID=Europe/Dublin:20150917T110000
DTEND;TZID=Europe/Dublin:20150917T130000
DTSTAMP:20260423T125929
CREATED:20160427T210040Z
LAST-MODIFIED:20160427T212826Z
UID:989-1442487600-1442494800@iwma.ie
SUMMARY:IWMA meeting with EPA on communications
DESCRIPTION:
URL:https://iwma.ie/event/iwma-meeting-with-epa-on-communications/
LOCATION:Maldron Hotel\, Maldron\, Midway\, Abbeyleix Road\, Portlaoise\, Ireland
CATEGORIES:Waste Event
END:VEVENT
BEGIN:VEVENT
DTSTART;VALUE=DATE:20150916
DTEND;VALUE=DATE:20150917
DTSTAMP:20260423T125929
CREATED:20160427T210349Z
LAST-MODIFIED:20160427T212818Z
UID:990-1442361600-1442447999@iwma.ie
SUMMARY:Environment Ireland Conference
DESCRIPTION:
URL:https://iwma.ie/event/environment-ireland-conference/
LOCATION:Croke Park\,  Croke Jones' Road\, Dublin 3\, Ireland
CATEGORIES:Waste Event
END:VEVENT
BEGIN:VEVENT
DTSTART;TZID=Europe/Dublin:20150915T130000
DTEND;TZID=Europe/Dublin:20150915T163000
DTSTAMP:20260423T125929
CREATED:20160427T210837Z
LAST-MODIFIED:20160427T212810Z
UID:992-1442322000-1442334600@iwma.ie
SUMMARY:WEEE Ireland 10 Yr Anniversay Celebration
DESCRIPTION:Minister for Environment Alan Kelly T.D. has been invited to attend and present alongside:\n– MC for the day – Ivan Yates of Newstalk Radio\n– Briefings from WEEE Ireland on Scheme successes and future directions on behalf of Members\n– WEEE Forum Presentation on European WEEE developments; WEEELABEX\, CWIT and WEEE2\n– Awards recognising the achievements of WEEE & Battery stakeholders including top WEEEpledge Schools for 2014\n– WEEE Ireland recycling contractors and social partnerships poster and exhibition area\n– light lunch\, refreshments with networking areas and some birthday fun too!
URL:https://iwma.ie/event/weee-ireland-10-yr-anniversay-celebration/
LOCATION:Google Docks\, Barrow Street\, Dublin 4\, Ireland
CATEGORIES:Social,Waste Event
END:VEVENT
BEGIN:VEVENT
DTSTART;TZID=Europe/Dublin:20150915T100000
DTEND;TZID=Europe/Dublin:20150915T120000
DTSTAMP:20260423T125929
CREATED:20160427T211034Z
LAST-MODIFIED:20160427T212801Z
UID:996-1442311200-1442318400@iwma.ie
SUMMARY:IWMA C&D Subgroup Meeting
DESCRIPTION:
URL:https://iwma.ie/event/iwma-cd-subgroup-meeting/
LOCATION:Maldron Hotel\, Maldron\, Midway\, Abbeyleix Road\, Portlaoise\, Ireland
CATEGORIES:Waste Event
END:VEVENT
END:VCALENDAR