BEGIN:VCALENDAR
VERSION:2.0
PRODID:-//IWMA - ECPv6.6.4.2//NONSGML v1.0//EN
CALSCALE:GREGORIAN
METHOD:PUBLISH
X-WR-CALNAME:IWMA
X-ORIGINAL-URL:https://iwma.ie
X-WR-CALDESC:Events for IWMA
REFRESH-INTERVAL;VALUE=DURATION:PT1H
X-Robots-Tag:noindex
X-PUBLISHED-TTL:PT1H
BEGIN:VTIMEZONE
TZID:Europe/Dublin
BEGIN:STANDARD
TZOFFSETFROM:+0000
TZOFFSETTO:+0100
TZNAME:IST
DTSTART:20210328T010000
END:STANDARD
BEGIN:DAYLIGHT
TZOFFSETFROM:+0100
TZOFFSETTO:+0000
TZNAME:GMT
DTSTART:20211031T010000
END:DAYLIGHT
BEGIN:STANDARD
TZOFFSETFROM:+0000
TZOFFSETTO:+0100
TZNAME:IST
DTSTART:20220327T010000
END:STANDARD
BEGIN:DAYLIGHT
TZOFFSETFROM:+0100
TZOFFSETTO:+0000
TZNAME:GMT
DTSTART:20221030T010000
END:DAYLIGHT
BEGIN:STANDARD
TZOFFSETFROM:+0000
TZOFFSETTO:+0100
TZNAME:IST
DTSTART:20230326T010000
END:STANDARD
BEGIN:DAYLIGHT
TZOFFSETFROM:+0100
TZOFFSETTO:+0000
TZNAME:GMT
DTSTART:20231029T010000
END:DAYLIGHT
END:VTIMEZONE
BEGIN:VEVENT
DTSTART;TZID=Europe/Dublin:20230602T110000
DTEND;TZID=Europe/Dublin:20230602T130000
DTSTAMP:20260421T153013
CREATED:20230509T100110Z
LAST-MODIFIED:20230509T100110Z
UID:2021-1685703600-1685710800@iwma.ie
SUMMARY:IWMA Members Meeting on National Waste Management Plan Consultation
DESCRIPTION:
URL:https://iwma.ie/event/iwma-members-meeting-on-national-waste-management-plan-consultation/
LOCATION:Maldron Hotel\, Maldron\, Midway\, Abbeyleix Road\, Portlaoise\, Ireland
CATEGORIES:Subgroup Meeting
END:VEVENT
BEGIN:VEVENT
DTSTART;TZID=Europe/Dublin:20230602T093000
DTEND;TZID=Europe/Dublin:20230602T104500
DTSTAMP:20260421T153013
CREATED:20230509T095351Z
LAST-MODIFIED:20230509T100649Z
UID:2020-1685698200-1685702700@iwma.ie
SUMMARY:IWMA Metal Recyclers Subgroup meeting
DESCRIPTION:
URL:https://iwma.ie/event/iwma-metal-recyclers-subgroup-meeting-2/
LOCATION:Maldron Hotel\, Maldron\, Midway\, Abbeyleix Road\, Portlaoise\, Ireland
CATEGORIES:Subgroup Meeting
END:VEVENT
BEGIN:VEVENT
DTSTART;VALUE=DATE:20230525
DTEND;VALUE=DATE:20230526
DTSTAMP:20260421T153013
CREATED:20221015T110656Z
LAST-MODIFIED:20221015T110656Z
UID:1981-1684972800-1685059199@iwma.ie
SUMMARY:Recycle NI & CIWM Annual Conference
DESCRIPTION:
URL:https://iwma.ie/event/recycle-ni-ciwm-annual-conference/
LOCATION:Titanic Centre\, Belfast\, United Kingdom
CATEGORIES:Conference
END:VEVENT
BEGIN:VEVENT
DTSTART;TZID=Europe/Dublin:20230427T141500
DTEND;TZID=Europe/Dublin:20230427T161500
DTSTAMP:20260421T153013
CREATED:20230509T101935Z
LAST-MODIFIED:20230509T101935Z
UID:2029-1682604900-1682612100@iwma.ie
SUMMARY:IWMA MSW Recycling Rates Members Meeting
DESCRIPTION:
URL:https://iwma.ie/event/iwma-msw-recycling-rates-members-meeting/
LOCATION:G Hotel\, Wellpark\, The\, Old Dublin Rd\, Galway\, \, Galway\, H91 V0HR\, Ireland
CATEGORIES:Subgroup Meeting
END:VEVENT
BEGIN:VEVENT
DTSTART;TZID=Europe/Dublin:20230427T110000
DTEND;TZID=Europe/Dublin:20230427T130000
DTSTAMP:20260421T153013
CREATED:20230509T101618Z
LAST-MODIFIED:20230509T101757Z
UID:2028-1682593200-1682600400@iwma.ie
SUMMARY:IWMA AGM
DESCRIPTION:
URL:https://iwma.ie/event/iwma-agm-2/
LOCATION:G Hotel\, Wellpark\, The\, Old Dublin Rd\, Galway\, \, Galway\, H91 V0HR\, Ireland
CATEGORIES:General Meeting
END:VEVENT
BEGIN:VEVENT
DTSTART;TZID=Europe/Dublin:20230427T093000
DTEND;TZID=Europe/Dublin:20230427T105000
DTSTAMP:20260421T153013
CREATED:20230509T100833Z
LAST-MODIFIED:20230509T100833Z
UID:2025-1682587800-1682592600@iwma.ie
SUMMARY:IWMA Board Meeting
DESCRIPTION:
URL:https://iwma.ie/event/iwma-board-meeting-37/
LOCATION:G Hotel\, Wellpark\, The\, Old Dublin Rd\, Galway\, \, Galway\, H91 V0HR\, Ireland
CATEGORIES:Board Meeting
END:VEVENT
BEGIN:VEVENT
DTSTART;VALUE=DATE:20230309
DTEND;VALUE=DATE:20230310
DTSTAMP:20260421T153013
CREATED:20221015T110529Z
LAST-MODIFIED:20221015T110944Z
UID:1980-1678320000-1678406399@iwma.ie
SUMMARY:IWMA & CIWM Annual Conference
DESCRIPTION:
URL:https://iwma.ie/event/iwma-ciwm-annual-conference/
LOCATION:Aviva Stadium\, Lansdowne Road\, Dublin 4\, Ireland
CATEGORIES:Conference
END:VEVENT
BEGIN:VEVENT
DTSTART;TZID=Europe/Dublin:20230209T141500
DTEND;TZID=Europe/Dublin:20230209T161500
DTSTAMP:20260421T153013
CREATED:20230509T103022Z
LAST-MODIFIED:20230509T103022Z
UID:2034-1675952100-1675959300@iwma.ie
SUMMARY:IWMA Subgroup Meeting on Planning & Licensing
DESCRIPTION:
URL:https://iwma.ie/event/iwma-subgroup-meeting-on-planning-licensing/
LOCATION:Radisson Athlone\, Northgate St\, Athlone\, Co. Westmeath\, Athlone\, N37 A8X9\, Ireland
CATEGORIES:Subgroup Meeting
END:VEVENT
BEGIN:VEVENT
DTSTART;TZID=Europe/Dublin:20230209T110000
DTEND;TZID=Europe/Dublin:20230209T132000
DTSTAMP:20260421T153013
CREATED:20230509T102751Z
LAST-MODIFIED:20230509T102751Z
UID:2033-1675940400-1675948800@iwma.ie
SUMMARY:IWMA General Meeting
DESCRIPTION:
URL:https://iwma.ie/event/iwma-general-meeting-37/
LOCATION:Radisson Athlone\, Northgate St\, Athlone\, Co. Westmeath\, Athlone\, N37 A8X9\, Ireland
CATEGORIES:General Meeting
END:VEVENT
BEGIN:VEVENT
DTSTART;TZID=Europe/Dublin:20230209T100000
DTEND;TZID=Europe/Dublin:20230209T110000
DTSTAMP:20260421T153013
CREATED:20230509T102653Z
LAST-MODIFIED:20230509T102653Z
UID:2030-1675936800-1675940400@iwma.ie
SUMMARY:IWMA Board Meeting
DESCRIPTION:
URL:https://iwma.ie/event/iwma-board-meeting-38/
LOCATION:Radisson Athlone\, Northgate St\, Athlone\, Co. Westmeath\, Athlone\, Select a State:\, N37 A8X9\, Ireland
CATEGORIES:Board Meeting
END:VEVENT
BEGIN:VEVENT
DTSTART;TZID=Europe/Dublin:20221124T140000
DTEND;TZID=Europe/Dublin:20221124T160000
DTSTAMP:20260421T153013
CREATED:20221015T110425Z
LAST-MODIFIED:20221015T110425Z
UID:1979-1669298400-1669305600@iwma.ie
SUMMARY:IWMA General Meeting
DESCRIPTION:
URL:https://iwma.ie/event/iwma-general-meeting-35/
LOCATION:Palmerstown Stud GC\, Palmerstown House Estate\, Johnstown\,\, County Kildare\, Ireland
CATEGORIES:General Meeting
END:VEVENT
BEGIN:VEVENT
DTSTART;TZID=Europe/Dublin:20221124T120000
DTEND;TZID=Europe/Dublin:20221124T130000
DTSTAMP:20260421T153013
CREATED:20221015T110323Z
LAST-MODIFIED:20221015T110323Z
UID:1978-1669291200-1669294800@iwma.ie
SUMMARY:IWMA Board Meeting
DESCRIPTION:
URL:https://iwma.ie/event/iwma-board-meeting-35/
LOCATION:Palmerstown Stud GC\, Palmerstown House Estate\, Johnstown\,\, County Kildare\, Ireland
CATEGORIES:Board Meeting
END:VEVENT
BEGIN:VEVENT
DTSTART;TZID=Europe/Dublin:20221103T110000
DTEND;TZID=Europe/Dublin:20221103T123000
DTSTAMP:20260421T153013
CREATED:20221015T110130Z
LAST-MODIFIED:20221015T110130Z
UID:1976-1667473200-1667478600@iwma.ie
SUMMARY:IWMA Metal Recyclers Subgroup Meeting
DESCRIPTION:
URL:https://iwma.ie/event/iwma-metal-recyclers-subgroup-meeting/
LOCATION:Palmerstown House Golf Club\, Palmerstown Demesne\, Johnstown\, Naas\, County Kildare\, Ireland
CATEGORIES:Subgroup Meeting
END:VEVENT
BEGIN:VEVENT
DTSTART;TZID=Europe/Dublin:20220908T141500
DTEND;TZID=Europe/Dublin:20220908T163000
DTSTAMP:20260421T153013
CREATED:20220210T105410Z
LAST-MODIFIED:20220217T110242Z
UID:1880-1662646500-1662654600@iwma.ie
SUMMARY:IWMA General Meeting
DESCRIPTION:
URL:https://iwma.ie/event/iwma-general-meeting-34/
LOCATION:Hardiman Hotel\, Eyre Square\, Galway\, H91 NFD2\, Ireland
END:VEVENT
BEGIN:VEVENT
DTSTART;TZID=Europe/Dublin:20220908T110000
DTEND;TZID=Europe/Dublin:20220908T121500
DTSTAMP:20260421T153013
CREATED:20220210T105307Z
LAST-MODIFIED:20220217T110315Z
UID:1878-1662634800-1662639300@iwma.ie
SUMMARY:IWMA Board Meeting
DESCRIPTION:
URL:https://iwma.ie/event/iwma-board-meeting-34/
LOCATION:Hardiman Hotel\, Eyre Square\, Galway\, H91 NFD2\, Ireland
END:VEVENT
BEGIN:VEVENT
DTSTART;TZID=Europe/Dublin:20220616T110000
DTEND;TZID=Europe/Dublin:20220616T131500
DTSTAMP:20260421T153013
CREATED:20220210T105155Z
LAST-MODIFIED:20220217T110342Z
UID:1877-1655377200-1655385300@iwma.ie
SUMMARY:IWMA General Meeting
DESCRIPTION:
URL:https://iwma.ie/event/iwma-general-meeting-33/
LOCATION:Mullingar Park Hotel
END:VEVENT
BEGIN:VEVENT
DTSTART;TZID=Europe/Dublin:20220616T093000
DTEND;TZID=Europe/Dublin:20220616T103000
DTSTAMP:20260421T153013
CREATED:20220210T105115Z
LAST-MODIFIED:20220217T110408Z
UID:1876-1655371800-1655375400@iwma.ie
SUMMARY:IWMA Board Meeting
DESCRIPTION:
URL:https://iwma.ie/event/iwma-board-meeting-33/
LOCATION:Mullingar Park Hotel
END:VEVENT
BEGIN:VEVENT
DTSTART;TZID=Europe/Dublin:20220407T110000
DTEND;TZID=Europe/Dublin:20220407T131500
DTSTAMP:20260421T153013
CREATED:20220210T105032Z
LAST-MODIFIED:20220217T110701Z
UID:1875-1649329200-1649337300@iwma.ie
SUMMARY:IWMA Annual General Meeting (AGM)
DESCRIPTION:
URL:https://iwma.ie/event/iwma-general-meeting-32/
LOCATION:Palmerstown Stud GC\, Palmerstown House Estate\, Johnstown\,\, County Kildare\, Ireland
END:VEVENT
BEGIN:VEVENT
DTSTART;TZID=Europe/Dublin:20220407T093000
DTEND;TZID=Europe/Dublin:20220407T103000
DTSTAMP:20260421T153013
CREATED:20220210T104949Z
LAST-MODIFIED:20220217T110730Z
UID:1874-1649323800-1649327400@iwma.ie
SUMMARY:IWMA Board Meeting
DESCRIPTION:
URL:https://iwma.ie/event/iwma-board-meeting-32/
LOCATION:Palmerstown Stud GC\, Palmerstown House Estate\, Johnstown\,\, County Kildare\, Ireland
END:VEVENT
BEGIN:VEVENT
DTSTART;VALUE=DATE:20220310
DTEND;VALUE=DATE:20220311
DTSTAMP:20260421T153013
CREATED:20211117T084110Z
LAST-MODIFIED:20220117T101142Z
UID:1837-1646870400-1646956799@iwma.ie
SUMMARY:Irish Waste Management Conference
DESCRIPTION:
URL:https://iwma.ie/event/irish-waste-management-conference-4/
LOCATION:Croke Park\,  Croke Jones' Road\, Dublin 3\, Ireland
END:VEVENT
BEGIN:VEVENT
DTSTART;TZID=Europe/Dublin:20220209T140000
DTEND;TZID=Europe/Dublin:20220209T163000
DTSTAMP:20260421T153013
CREATED:20211210T102848Z
LAST-MODIFIED:20211210T102848Z
UID:1867-1644415200-1644424200@iwma.ie
SUMMARY:IWMA General Meeting
DESCRIPTION:
URL:https://iwma.ie/event/iwma-general-meeting-31/
END:VEVENT
BEGIN:VEVENT
DTSTART;TZID=Europe/Dublin:20220209T110000
DTEND;TZID=Europe/Dublin:20220209T123000
DTSTAMP:20260421T153013
CREATED:20211210T102750Z
LAST-MODIFIED:20211210T102750Z
UID:1866-1644404400-1644409800@iwma.ie
SUMMARY:IWMA Board Meeting
DESCRIPTION:
URL:https://iwma.ie/event/iwma-board-meeting-31/
END:VEVENT
BEGIN:VEVENT
DTSTART;TZID=Europe/Dublin:20211125T133000
DTEND;TZID=Europe/Dublin:20211125T153000
DTSTAMP:20260421T153013
CREATED:20211117T083717Z
LAST-MODIFIED:20211117T083717Z
UID:1834-1637847000-1637854200@iwma.ie
SUMMARY:IWMA General Meeting
DESCRIPTION:
URL:https://iwma.ie/event/iwma-general-meeting-29/
LOCATION:MS Teams Virtual Meeting
END:VEVENT
BEGIN:VEVENT
DTSTART;TZID=Europe/Dublin:20211125T093000
DTEND;TZID=Europe/Dublin:20211125T113000
DTSTAMP:20260421T153013
CREATED:20211117T083540Z
LAST-MODIFIED:20211117T083540Z
UID:1832-1637832600-1637839800@iwma.ie
SUMMARY:IWMA Board Meeting
DESCRIPTION:
URL:https://iwma.ie/event/iwma-board-meeting-29/
LOCATION:MS Teams
END:VEVENT
BEGIN:VEVENT
DTSTART;TZID=Europe/Dublin:20210902T141500
DTEND;TZID=Europe/Dublin:20210902T163000
DTSTAMP:20260421T153013
CREATED:20211117T083953Z
LAST-MODIFIED:20211117T083953Z
UID:1836-1630592100-1630600200@iwma.ie
SUMMARY:IWMA General Meeting
DESCRIPTION:
URL:https://iwma.ie/event/iwma-general-meeting-30/
LOCATION:Glasson House Hotel\, Glasson\, Athlone\, Ireland
END:VEVENT
BEGIN:VEVENT
DTSTART;TZID=Europe/Dublin:20210902T110000
DTEND;TZID=Europe/Dublin:20210902T123000
DTSTAMP:20260421T153013
CREATED:20211117T083850Z
LAST-MODIFIED:20211117T083850Z
UID:1835-1630580400-1630585800@iwma.ie
SUMMARY:IWMA Board Meeting
DESCRIPTION:
URL:https://iwma.ie/event/iwma-board-meeting-30/
LOCATION:Glasson House Hotel\, Glasson\, Athlone\, Ireland
END:VEVENT
BEGIN:VEVENT
DTSTART;TZID=Europe/Dublin:20210617T110000
DTEND;TZID=Europe/Dublin:20210617T132000
DTSTAMP:20260421T153013
CREATED:20200828T090941Z
LAST-MODIFIED:20200828T090941Z
UID:1714-1623927600-1623936000@iwma.ie
SUMMARY:IWMA General Meeting
DESCRIPTION:
URL:https://iwma.ie/event/iwma-general-meeting-28/
END:VEVENT
BEGIN:VEVENT
DTSTART;TZID=Europe/Dublin:20210617T093000
DTEND;TZID=Europe/Dublin:20210617T103000
DTSTAMP:20260421T153013
CREATED:20200828T090902Z
LAST-MODIFIED:20200828T090902Z
UID:1713-1623922200-1623925800@iwma.ie
SUMMARY:IWMA Board Meeting
DESCRIPTION:
URL:https://iwma.ie/event/iwma-board-meeting-28/
END:VEVENT
BEGIN:VEVENT
DTSTART;TZID=Europe/Dublin:20210415T110000
DTEND;TZID=Europe/Dublin:20210415T132000
DTSTAMP:20260421T153013
CREATED:20200828T090800Z
LAST-MODIFIED:20200828T090800Z
UID:1712-1618484400-1618492800@iwma.ie
SUMMARY:IWMA AGM
DESCRIPTION:
URL:https://iwma.ie/event/iwma-agm/
END:VEVENT
BEGIN:VEVENT
DTSTART;TZID=Europe/Dublin:20210415T090000
DTEND;TZID=Europe/Dublin:20210415T100000
DTSTAMP:20260421T153013
CREATED:20200828T090713Z
LAST-MODIFIED:20210330T080548Z
UID:1711-1618477200-1618480800@iwma.ie
SUMMARY:IWMA Board Meeting
DESCRIPTION:
URL:https://iwma.ie/event/iwma-board-meeting-27/
END:VEVENT
END:VCALENDAR